BEGIN:VCALENDAR
VERSION:2.0
PRODID:icalendar-ruby
CALSCALE:GREGORIAN
METHOD:PUBLISH
BEGIN:VEVENT
DTSTAMP:20260423T211349Z
UID:40-4906435@stpauls-anglican.ca
DTSTART:20261004T160000Z
DTEND:20261004T190000Z
CLASS:PUBLIC
CREATED:20260423T132341
DESCRIPTION:The Sunday bulletin can befound by clicking on SERMONS. There y
 ou can download the bulletin by selecting the appropriate date (the upcomi
 ng Sunday will only be visible starting on Sunday morning). \nTo access o
 ur Live Stream services\, please click on LIVESTREAM\, or go to our YOUTUB
 E.\nThe Sunday Scripture readings can be found on the REVISED COMMON LECTI
 ONARY website or found in the attached bulletin on the Sermons page (link 
 above). 
LAST-MODIFIED:20260423T132341
LOCATION:Sanctuary and Online
SUMMARY:St. Paul's Sunday Service
URL;VALUE=URI:https://www.stpauls-anglican.ca/events/st-pauls-sunday-servic
 e/2026-10-04
ATTACH;FILENAME=unnamed.png;FMTTYPE=image/png:https://dq5pwpg1q8ru0.cloudfr
 ont.net/2020/05/07/11/13/00/10760549-ce62-4e7a-a3c4-6b4be863f494/unnamed.p
 ng
END:VEVENT
END:VCALENDAR
