BEGIN:VCALENDAR
VERSION:2.0
PRODID:icalendar-ruby
CALSCALE:GREGORIAN
METHOD:PUBLISH
BEGIN:VEVENT
DTSTAMP:20260422T223603Z
UID:165-4894767@stpauls-anglican.ca
DTSTART:20261001T010000Z
DTEND:20261001T020000Z
CLASS:PUBLIC
CREATED:20260422T161714
DESCRIPTION:St. Paul’s is excited to extend an open invitation for everyo
 ne to join our new weekly group on Zoom\, starting in October on each Wedn
 esday evening at 7:00pm\, where we will read and discuss that Sunday’s L
 ectionary readings. This will be an excellent opportunity to grow spiritua
 lly and intellectually in the Word of God\, get more out of the Sunday ser
 mons\, connect with fellow parishioners\, and read the Bible in community.
 \nFind the lectionary readings here: https://lectionary.library.vanderbilt
 .edu/\nJoin the Zoom meeting here: https://us02web.zoom.us/j/86319873803?p
 wd=4T13BhYGvzubKOwaufwiRlXdBkKFLM.1\nMeeting ID: 863 1987 3803\nPasscode: 
 141675\n\n---\n\nZoom one-tap mobile: +17806660144\,\,86319873803# Canada\
 nJoin instructions: https://us02web.zoom.us/meetings/86319873803/invitatio
 ns?signature=C25jy2fj2v7snRtP-zhDxhnV2Wb7BRFgqw5JrRuM0Xc
LAST-MODIFIED:20260422T161714
LOCATION:
SUMMARY:Lectionary Discussion
URL;VALUE=URI:https://www.stpauls-anglican.ca/events/lectionary-discussion/
 2026-09-30
ATTACH;FILENAME=aaron-burden-QJDzYT_K8Xg-unsplash.jpg;FMTTYPE=image/jpeg:ht
 tps://dq5pwpg1q8ru0.cloudfront.net/2025/09/23/18/12/58/44f78f83-79e5-473a-
 be69-1fe88aab4edb/aaron-burden-QJDzYT_K8Xg-unsplash.jpg
END:VEVENT
END:VCALENDAR
