BEGIN:VCALENDAR
VERSION:2.0
PRODID:icalendar-ruby
CALSCALE:GREGORIAN
METHOD:PUBLISH
BEGIN:VEVENT
DTSTAMP:20260422T103615Z
UID:66-4880490@stpauls-anglican.ca
DTSTART:20261019T140000Z
DTEND:20261019T143000Z
CLASS:PUBLIC
CREATED:20260421T174109
DESCRIPTION:Please join us for daily prayer services on Zoom at St Paul's!\
 nMorning Prayer is 8am daily except Sundays at the Zoom link below. \nThe 
 service lasts about 30 minutes.\nEvening Prayer is at 9:15pm daily\, at th
 e Zoom link below. \nThis is a short 15-minute service to end the day.\nWe
  use the services of Morning and Evening Prayer in the Book of Alternativ
 e Services\, which can be found from the Anglican Church of Canada here: 
 https://www.anglican.ca/wp-content/uploads/BAS.pdf. \nIf you would like mo
 re information\, please contact the office.\n \nJoin Zoom Meeting \nhttps
 ://us02web.zoom.us/j/89012877222?pwd=djd6aW13NER6UmNUQ0hTbWtvSW56QT09 \nMe
 eting ID: 890 1287 7222 \nPasscode: 000636\n\n \nDial by your location\nM
 eeting ID: 890 1287 7222 \nPasscode: 000636 \nFind your local number: \nht
 tps://us02web.zoom.us/u/kbTlfIXkJ
LAST-MODIFIED:20260421T174109
LOCATION:
SUMMARY:Daily Morning/Evening Prayer
URL;VALUE=URI:https://www.stpauls-anglican.ca/events/daily-morning-evening-
 prayer--66/2026-10-19
ATTACH;FILENAME=morning prayer photo.jpg;FMTTYPE=image/jpeg:https://dq5pwpg
 1q8ru0.cloudfront.net/2022/01/05/16/35/39/73607a4c-02e2-40ed-a894-f5fa07d9
 a670/morning%20prayer%20photo.jpg
END:VEVENT
END:VCALENDAR
