BEGIN:VCALENDAR
VERSION:2.0
PRODID:icalendar-ruby
CALSCALE:GREGORIAN
METHOD:PUBLISH
BEGIN:VEVENT
DTSTAMP:20260422T012223Z
UID:65-4880238@stpauls-anglican.ca
DTSTART:20261024T140000Z
DTEND:20261024T143000Z
CLASS:PUBLIC
CREATED:20260421T174109
DESCRIPTION:Please join us for daily prayer services on Zoom at St Paul's!\
 nMorning Prayer is 8am daily except Sundays at the Zoom link below. \nThe 
 service lasts about 30 minutes.\nEvening Prayer is at 9:15pm daily\, at th
 e Zoom link below. \nThis is a short 15-minute service to end the day.\nWe
  use the services from Pray Without Ceasing\, which can be found from th
 e Anglican Church of Canada here: https://www.anglican.ca/wp-content/uploa
 ds/pray-without-ceasing.pdf. \nIf you would like more information\, pleas
 e contact the office.\n \nJoin Zoom Meeting \nhttps://us02web.zoom.us/j/8
 9012877222?pwd=djd6aW13NER6UmNUQ0hTbWtvSW56QT09 \nMeeting ID: 890 1287 722
 2 \nPasscode: 000636\n\n \nDial by your location\nMeeting ID: 890 1287 72
 22 \nPasscode: 000636 \nFind your local number: \nhttps://us02web.zoom.us/
 u/kbTlfIXkJ
LAST-MODIFIED:20260421T174109
LOCATION:
SUMMARY:Daily Morning/Evening Prayer
URL;VALUE=URI:https://www.stpauls-anglican.ca/events/daily-morning-evening-
 prayer--65/2026-10-24
ATTACH;FILENAME=Daily-Prayer.png;FMTTYPE=image/png:https://dq5pwpg1q8ru0.cl
 oudfront.net/2025/12/02/18/02/08/9586450e-0241-4ac4-af82-15437ad5f684/Dail
 y-Prayer.png
ATTACH;FILENAME=Advent Morning and Evening Prayer.pdf;FMTTYPE=application/p
 df:https://dq5pwpg1q8ru0.cloudfront.net/2025/11/27/19/26/42/bc5ee3d7-9f40-
 4454-8733-79e84b818dc4/Advent%20Morning%20and%20Evening%20Prayer.pdf
END:VEVENT
END:VCALENDAR
